BEGIN:VCALENDAR
VERSION:2.0
PRODID:concerti//https://www.concerti.de
CALSCALE:GREGORIAN
BEGIN:VTIMEZONE
TZID:Europe/Berlin
X-LIC-LOCATION:Europe/Berlin
BEGIN:DAYLIGHT
TZOFFSETFROM:+0100
TZOFFSETTO:+0200
TZNAME:CEST
DTSTART:19700329T020000
RRULE:FREQ=YEARLY;BYMONTH=3;BYDAY=-1SU
END:DAYLIGHT
BEGIN:STANDARD
TZOFFSETFROM:+0200
TZOFFSETTO:+0100
TZNAME:CET
DTSTART:19701025T030000
RRULE:FREQ=YEARLY;BYMONTH=10;BYDAY=-1SU
END:STANDARD
END:VTIMEZONE
BEGIN:VEVENT
UID:f8867c7cae5a617e0df0f524b3e44023
SUMMARY:Bernstein: Candide
URL:https://www.concerti.de/termine/bernstein-candide-theater-regensburg-200935/
DTSTART;TZID=Europe/Berlin:20261018T180000
DTEND;TZID=Europe/Berlin:20261018T200000
DESCRIPTION:Mit einer „Einführung in die Experimentalphysik“ als galante Umschreibung für ein Stelldichein zwischen dem Hauslehrer Dr. Pangloss und der Kammerzofe lässt Voltaire seine Novelle „Candide oder der Optimismus“ beginnen. Im Mittelpunkt der spottreichen Satire stehen der geistig eher einfach gestrickte Candide und seine verbotene Liebe Kunigunde. Sie begeben sich auf die Suche nach der „besten aller Welten“\, nur um nach zahlreichen Abenteuern festzustellen\, dass diese nichts weiter als eine Utopie ist und das wahre Glück des Menschen ohnehin in der Gartenarbeit besteht. Am Theater Regensburg ist erstmals Leonard Bernsteins zwischen Oper\, Musical und Operette changierendes Musiktheaterwerk „Candide“ zu erleben. Für [&hellip\;] \nInterpreten: John Spencer (Leitung)\, Ronny Scholz (Regie) \nhttps://www.concerti.de/termine/bernstein-candide-theater-regensburg-200935/
LOCATION:Theater Regensburg\, Bismarckpl. 7\, 93047 Regensburg
END:VEVENT
END:VCALENDAR