BEGIN:VCALENDAR
VERSION:2.0
PRODID:concerti//https://www.concerti.de
CALSCALE:GREGORIAN
BEGIN:VTIMEZONE
TZID:Europe/Berlin
X-LIC-LOCATION:Europe/Berlin
BEGIN:DAYLIGHT
TZOFFSETFROM:+0100
TZOFFSETTO:+0200
TZNAME:CEST
DTSTART:19700329T020000
RRULE:FREQ=YEARLY;BYMONTH=3;BYDAY=-1SU
END:DAYLIGHT
BEGIN:STANDARD
TZOFFSETFROM:+0200
TZOFFSETTO:+0100
TZNAME:CET
DTSTART:19701025T030000
RRULE:FREQ=YEARLY;BYMONTH=10;BYDAY=-1SU
END:STANDARD
END:VTIMEZONE
BEGIN:VEVENT
UID:1d0b7ea0287eec58d69c3ce38565a667
SUMMARY:Philharmonisches Orchester Regensburg, Lucia Birzer Litung, Hannah Spielvogel (Moderation) - Familienkonzert
URL:https://www.concerti.de/termine/philharmonisches-orchester-regensburg-lucia-birzer-litung-hannah-spielvogel-moderation-neuhaussaal-891768/
DTSTART;TZID=Europe/Berlin:20261220T114500
DTEND;TZID=Europe/Berlin:20261220T134500
DESCRIPTION:Interpreten: Philharmonisches Orchester Regensburg\, Lucia Birzer Litung\, Hannah Spielvogel (Moderation) \nProgramm: Werke von Ravel\, Menken\, Tschaikowsky u. a. \nhttps://www.concerti.de/termine/philharmonisches-orchester-regensburg-lucia-birzer-litung-hannah-spielvogel-moderation-neuhaussaal-891768/
LOCATION:Neuhaussaal\, Bismarckplatz 7\, 93047 Regensburg
END:VEVENT
END:VCALENDAR