BEGIN:VCALENDAR
VERSION:2.0
PRODID:concerti//https://www.concerti.de
CALSCALE:GREGORIAN
BEGIN:VTIMEZONE
TZID:Europe/Berlin
X-LIC-LOCATION:Europe/Berlin
BEGIN:DAYLIGHT
TZOFFSETFROM:+0100
TZOFFSETTO:+0200
TZNAME:CEST
DTSTART:19700329T020000
RRULE:FREQ=YEARLY;BYMONTH=3;BYDAY=-1SU
END:DAYLIGHT
BEGIN:STANDARD
TZOFFSETFROM:+0200
TZOFFSETTO:+0100
TZNAME:CET
DTSTART:19701025T030000
RRULE:FREQ=YEARLY;BYMONTH=10;BYDAY=-1SU
END:STANDARD
END:VTIMEZONE
BEGIN:VEVENT
UID:6cfcfa6908e8bc8486222e8c5c930e79
SUMMARY:Paul Sturm (Klavier), Amadeuschor Neuendettelsau, Julian Hauptmann (Leitung), Susanne Hoch (Moderation)
URL:https://www.concerti.de/termine/paul-sturm-klavier-amadeuschor-neuendettelsau-julian-hauptmann-leitung-susanne-hoch-moderation-tagungszentrum-onoldia-891829/
DTSTART;TZID=Europe/Berlin:20260628T160000
DTEND;TZID=Europe/Berlin:20260628T180000
DESCRIPTION:Interpreten: Paul Sturm (Klavier)\, Amadeuschor Neuendettelsau\, Julian Hauptmann (Leitung)\, Susanne Hoch (Moderation) \nhttps://www.concerti.de/termine/paul-sturm-klavier-amadeuschor-neuendettelsau-julian-hauptmann-leitung-susanne-hoch-moderation-tagungszentrum-onoldia-891829/
LOCATION:Onoldiasaal Ansbach\, Nürnberger Straße 30\, 91522 Ansbach
END:VEVENT
END:VCALENDAR