BEGIN:VCALENDAR
VERSION:2.0
PRODID:concerti//https://www.concerti.de
CALSCALE:GREGORIAN
BEGIN:VTIMEZONE
TZID:Europe/Berlin
X-LIC-LOCATION:Europe/Berlin
BEGIN:DAYLIGHT
TZOFFSETFROM:+0100
TZOFFSETTO:+0200
TZNAME:CEST
DTSTART:19700329T020000
RRULE:FREQ=YEARLY;BYMONTH=3;BYDAY=-1SU
END:DAYLIGHT
BEGIN:STANDARD
TZOFFSETFROM:+0200
TZOFFSETTO:+0100
TZNAME:CET
DTSTART:19701025T030000
RRULE:FREQ=YEARLY;BYMONTH=10;BYDAY=-1SU
END:STANDARD
END:VTIMEZONE
BEGIN:VEVENT
UID:f9cf36139f7684371cb173b29a7b6bc9
SUMMARY:Jana Förster (Klarinette), Maurice Poschenrieder (Violine), Viola Frings (Klavier), Henrietta Bendel (Klavier), Sebastian Rauch (Klavier), Felicia Kloss (Klavier), Birgitta Eila (Moderation)
URL:https://www.concerti.de/termine/jana-foerster-klarinette-maurice-poschenrieder-violine-viola-frings-klavier-henrietta-bendel-klavier-sebastian-rauch-klavier-felicia-kloss-klavier-birgitta-eila-moderation-891844/
DTSTART;TZID=Europe/Berlin:20260607T110000
DTEND;TZID=Europe/Berlin:20260607T130000
DESCRIPTION:Interpreten: Jana Förster (Klarinette)\, Maurice Poschenrieder (Violine)\, Viola Frings (Klavier)\, Henrietta Bendel (Klavier)\, Sebastian Rauch (Klavier)\, Felicia Kloss (Klavier)\, Birgitta Eila (Moderation) \nProgramm: Tchaikowsky: Die Jahreszeiten op. 37a (Auszug)\, Brahms: Sieben Fantasien op. 116 (Auszug)\, Chopin: Klaviersonate Nr. 2 b-Moll op. 35 & Ballade Nr. 1 g-Moll op. 23\, Beethoven: Violinsonate Nr. 9 A-Dur op. 47 „Kreutzer“ \nhttps://www.concerti.de/termine/jana-foerster-klarinette-maurice-poschenrieder-violine-viola-frings-klavier-henrietta-bendel-klavier-sebastian-rauch-klavier-felicia-kloss-klavier-birgitta-eila-moderation-891844/
LOCATION:Remise Schloss Fußberg\, Gauting
END:VEVENT
END:VCALENDAR