BEGIN:VCALENDAR
VERSION:2.0
PRODID:concerti//https://www.concerti.de
CALSCALE:GREGORIAN
BEGIN:VTIMEZONE
TZID:Europe/Berlin
X-LIC-LOCATION:Europe/Berlin
BEGIN:DAYLIGHT
TZOFFSETFROM:+0100
TZOFFSETTO:+0200
TZNAME:CEST
DTSTART:19700329T020000
RRULE:FREQ=YEARLY;BYMONTH=3;BYDAY=-1SU
END:DAYLIGHT
BEGIN:STANDARD
TZOFFSETFROM:+0200
TZOFFSETTO:+0100
TZNAME:CET
DTSTART:19701025T030000
RRULE:FREQ=YEARLY;BYMONTH=10;BYDAY=-1SU
END:STANDARD
END:VTIMEZONE
BEGIN:VEVENT
UID:edfaa69dde6551902ef3ff8305fd4a18
SUMMARY:Christian Scholl (Violine), Ektoras Tartanis (Leitung)
URL:https://www.concerti.de/termine/christian-scholl-violine-ektoras-tartanis-leitung-891867/
DTSTART;TZID=Europe/Berlin:20260710T200000
DTEND;TZID=Europe/Berlin:20260710T220000
DESCRIPTION:Interpreten: Christian Scholl (Violine)\, Ektoras Tartanis (Leitung) \nhttps://www.concerti.de/termine/christian-scholl-violine-ektoras-tartanis-leitung-891867/
LOCATION:Prantlgarten\, Landshut
END:VEVENT
END:VCALENDAR