BEGIN:VCALENDAR
VERSION:2.0
PRODID:concerti//https://www.concerti.de
CALSCALE:GREGORIAN
BEGIN:VTIMEZONE
TZID:Europe/Berlin
X-LIC-LOCATION:Europe/Berlin
BEGIN:DAYLIGHT
TZOFFSETFROM:+0100
TZOFFSETTO:+0200
TZNAME:CEST
DTSTART:19700329T020000
RRULE:FREQ=YEARLY;BYMONTH=3;BYDAY=-1SU
END:DAYLIGHT
BEGIN:STANDARD
TZOFFSETFROM:+0200
TZOFFSETTO:+0100
TZNAME:CET
DTSTART:19701025T030000
RRULE:FREQ=YEARLY;BYMONTH=10;BYDAY=-1SU
END:STANDARD
END:VTIMEZONE
BEGIN:VEVENT
UID:ebc0da79d7d84f882ee90e1520c83c44
SUMMARY:Christian Scholl (Violine), Niederbayerische Philharmonie, Ektoras Tartanis (Leitung)
URL:https://www.concerti.de/termine/christian-scholl-violine-niederbayerische-philharmonie-ektoras-tartanis-leitung-891870/
DTSTART;TZID=Europe/Berlin:20260717T200000
DTEND;TZID=Europe/Berlin:20260717T220000
DESCRIPTION:Interpreten: Christian Scholl (Violine)\, Niederbayerische Philharmonie\, Ektoras Tartanis (Leitung) \nhttps://www.concerti.de/termine/christian-scholl-violine-niederbayerische-philharmonie-ektoras-tartanis-leitung-891870/
LOCATION:Veste Oberhaus\, Passau
END:VEVENT
END:VCALENDAR