BEGIN:VCALENDAR
VERSION:2.0
PRODID:concerti//https://www.concerti.de
CALSCALE:GREGORIAN
BEGIN:VTIMEZONE
TZID:Europe/Berlin
X-LIC-LOCATION:Europe/Berlin
BEGIN:DAYLIGHT
TZOFFSETFROM:+0100
TZOFFSETTO:+0200
TZNAME:CEST
DTSTART:19700329T020000
RRULE:FREQ=YEARLY;BYMONTH=3;BYDAY=-1SU
END:DAYLIGHT
BEGIN:STANDARD
TZOFFSETFROM:+0200
TZOFFSETTO:+0100
TZNAME:CET
DTSTART:19701025T030000
RRULE:FREQ=YEARLY;BYMONTH=10;BYDAY=-1SU
END:STANDARD
END:VTIMEZONE
BEGIN:VEVENT
UID:5e90a3ff2251e940a35c41c7684fcf50
SUMMARY:Shachar Lavi (Mezzosopran), Jewish Chamber Orchestra Munich, Daniel Grossmann (Leitung)
URL:https://www.concerti.de/termine/shachar-lavi-mezzosopran-jewish-chamber-orchestra-munich-daniel-grossmann-leitung-891874/
DTSTART;TZID=Europe/Berlin:20260617T200000
DTEND;TZID=Europe/Berlin:20260617T220000
DESCRIPTION:Interpreten: Shachar Lavi (Mezzosopran)\, Jewish Chamber Orchestra Munich\, Daniel Grossmann (Leitung) \nProgramm: Engel: Hadibuk op. 35\, Engel/Piras: Jewish Folk Songs\, Weinberg/Basner: Jewish Songs op. 13\, Schubert/Mahler: Der Tod und das Mädchen \nhttps://www.concerti.de/termine/shachar-lavi-mezzosopran-jewish-chamber-orchestra-munich-daniel-grossmann-leitung-891874/
LOCATION:Große Synagoge\, Augsburg
END:VEVENT
END:VCALENDAR