BEGIN:VCALENDAR
VERSION:2.0
PRODID:concerti//https://www.concerti.de
CALSCALE:GREGORIAN
BEGIN:VTIMEZONE
TZID:Europe/Berlin
X-LIC-LOCATION:Europe/Berlin
BEGIN:DAYLIGHT
TZOFFSETFROM:+0100
TZOFFSETTO:+0200
TZNAME:CEST
DTSTART:19700329T020000
RRULE:FREQ=YEARLY;BYMONTH=3;BYDAY=-1SU
END:DAYLIGHT
BEGIN:STANDARD
TZOFFSETFROM:+0200
TZOFFSETTO:+0100
TZNAME:CET
DTSTART:19701025T030000
RRULE:FREQ=YEARLY;BYMONTH=10;BYDAY=-1SU
END:STANDARD
END:VTIMEZONE
BEGIN:VEVENT
UID:55d5e74a1b458c2131afc2520eb3b357
SUMMARY:Christian Traute (Posaune), Prinzregenten Ensemble München, Armando Merino (Leitung)
URL:https://www.concerti.de/termine/christian-traute-posaune-prinzregenten-ensemble-muenchen-armando-merino-leitung-schloss-nymphenburg-891884/
DTSTART;TZID=Europe/Berlin:20260705T110000
DTEND;TZID=Europe/Berlin:20260705T130000
DESCRIPTION:Interpreten: Christian Traute (Posaune)\, Prinzregenten Ensemble München\, Armando Merino (Leitung) \nProgramm: Werke von Cossart\, Françaix & Ravel \nhttps://www.concerti.de/termine/christian-traute-posaune-prinzregenten-ensemble-muenchen-armando-merino-leitung-schloss-nymphenburg-891884/
LOCATION:Schloss Nymphenburg\, Schloß Nymphenburg 1\, 80638 München
END:VEVENT
END:VCALENDAR