BEGIN:VCALENDAR
VERSION:2.0
PRODID:concerti//https://www.concerti.de
CALSCALE:GREGORIAN
BEGIN:VTIMEZONE
TZID:Europe/Berlin
X-LIC-LOCATION:Europe/Berlin
BEGIN:DAYLIGHT
TZOFFSETFROM:+0100
TZOFFSETTO:+0200
TZNAME:CEST
DTSTART:19700329T020000
RRULE:FREQ=YEARLY;BYMONTH=3;BYDAY=-1SU
END:DAYLIGHT
BEGIN:STANDARD
TZOFFSETFROM:+0200
TZOFFSETTO:+0100
TZNAME:CET
DTSTART:19701025T030000
RRULE:FREQ=YEARLY;BYMONTH=10;BYDAY=-1SU
END:STANDARD
END:VTIMEZONE
BEGIN:VEVENT
UID:70c31dd9d6f1190c712c2794aa450d28
SUMMARY:Mariam Abouzahra (Violine), Philharmonisches Orchester des Staatstheaters Cottbus, Alexander Merzyn (Leitung) - Choriner Musiksommer: Eröffnungskonzert
URL:https://www.concerti.de/termine/mariam-abouzahra-violine-philharmonisches-orchester-des-staatstheaters-cottbus-alexander-merzyn-leitung-kloster-chorin-891943/
DTSTART;TZID=Europe/Berlin:20260620T150000
DTEND;TZID=Europe/Berlin:20260620T170000
DESCRIPTION:Interpreten: Mariam Abouzahra (Violine)\, Philharmonisches Orchester des Staatstheaters Cottbus\, Alexander Merzyn (Leitung) \nProgramm: Weber: Ouvertüre zu „Der Freischütz“\, Bruch: Violinkonzert Nr. 1 g-Moll op. 26\, Dvořák: Sinfonie Nr. 9 e-Moll „Aus der neuen Welt“ \nhttps://www.concerti.de/termine/mariam-abouzahra-violine-philharmonisches-orchester-des-staatstheaters-cottbus-alexander-merzyn-leitung-kloster-chorin-891943/
LOCATION:Kloster Chorin\, Amt Chorin 11a\, 16230 Chorin
END:VEVENT
END:VCALENDAR