BEGIN:VCALENDAR
VERSION:2.0
PRODID:concerti//https://www.concerti.de
CALSCALE:GREGORIAN
BEGIN:VTIMEZONE
TZID:Europe/Berlin
X-LIC-LOCATION:Europe/Berlin
BEGIN:DAYLIGHT
TZOFFSETFROM:+0100
TZOFFSETTO:+0200
TZNAME:CEST
DTSTART:19700329T020000
RRULE:FREQ=YEARLY;BYMONTH=3;BYDAY=-1SU
END:DAYLIGHT
BEGIN:STANDARD
TZOFFSETFROM:+0200
TZOFFSETTO:+0100
TZNAME:CET
DTSTART:19701025T030000
RRULE:FREQ=YEARLY;BYMONTH=10;BYDAY=-1SU
END:STANDARD
END:VTIMEZONE
BEGIN:VEVENT
UID:2ca0ef7923133aee1901d4cf4181950e
SUMMARY:Der Feuervogel hebt ab! - Choriner Musiksommer: Familienkonzert
URL:https://www.concerti.de/termine/der-feuervogel-hebt-ab-kloster-chorin-891949/
DTSTART;TZID=Europe/Berlin:20260627T150000
DTEND;TZID=Europe/Berlin:20260627T170000
DESCRIPTION:Interpreten: Neubrandenburger Philharmonie\, Steffen Tast (Leitung)\, Juri Tetzlaff (Moderation) \nhttps://www.concerti.de/termine/der-feuervogel-hebt-ab-kloster-chorin-891949/
LOCATION:Kloster Chorin\, Amt Chorin 11a\, 16230 Chorin
END:VEVENT
END:VCALENDAR