BEGIN:VCALENDAR
VERSION:2.0
PRODID:concerti//https://www.concerti.de
CALSCALE:GREGORIAN
BEGIN:VTIMEZONE
TZID:Europe/Berlin
X-LIC-LOCATION:Europe/Berlin
BEGIN:DAYLIGHT
TZOFFSETFROM:+0100
TZOFFSETTO:+0200
TZNAME:CEST
DTSTART:19700329T020000
RRULE:FREQ=YEARLY;BYMONTH=3;BYDAY=-1SU
END:DAYLIGHT
BEGIN:STANDARD
TZOFFSETFROM:+0200
TZOFFSETTO:+0100
TZNAME:CET
DTSTART:19701025T030000
RRULE:FREQ=YEARLY;BYMONTH=10;BYDAY=-1SU
END:STANDARD
END:VTIMEZONE
BEGIN:VEVENT
UID:e12fc6a0880b0d732413ce1be91196d3
SUMMARY:Trio Hélios, Philharmonisches Orchester Vorpommern, Florian Csizmadia (Leitung) - Choriner Musiksommer
URL:https://www.concerti.de/termine/trio-helios-philharmonisches-orchester-vorpommern-florian-csizmadia-leitung-kloster-chorin-891958/
DTSTART;TZID=Europe/Berlin:20260718T150000
DTEND;TZID=Europe/Berlin:20260718T170000
DESCRIPTION:Interpreten: Trio Hélios\, Philharmonisches Orchester Vorpommern\, Florian Csizmadia (Leitung) \nProgramm: Beethoven: Ouvertüre zu „Coriolan“ & Tripelkonzert\, Mozart: Jupiter-Sinfonie \nhttps://www.concerti.de/termine/trio-helios-philharmonisches-orchester-vorpommern-florian-csizmadia-leitung-kloster-chorin-891958/
LOCATION:Kloster Chorin\, Amt Chorin 11a\, 16230 Chorin
END:VEVENT
END:VCALENDAR