BEGIN:VCALENDAR
VERSION:2.0
PRODID:concerti//https://www.concerti.de
CALSCALE:GREGORIAN
BEGIN:VTIMEZONE
TZID:Europe/Berlin
X-LIC-LOCATION:Europe/Berlin
BEGIN:DAYLIGHT
TZOFFSETFROM:+0100
TZOFFSETTO:+0200
TZNAME:CEST
DTSTART:19700329T020000
RRULE:FREQ=YEARLY;BYMONTH=3;BYDAY=-1SU
END:DAYLIGHT
BEGIN:STANDARD
TZOFFSETFROM:+0200
TZOFFSETTO:+0100
TZNAME:CET
DTSTART:19701025T030000
RRULE:FREQ=YEARLY;BYMONTH=10;BYDAY=-1SU
END:STANDARD
END:VTIMEZONE
BEGIN:VEVENT
UID:7557968887b387a393432354e924fdd6
SUMMARY:Philharmonisches Orchester Szczecin, Przemyslaw Neumann (Leitung) - Choriner Musiksommer
URL:https://www.concerti.de/termine/philharmonisches-orchester-szczecin-przemyslaw-neumann-leitung-kloster-chorin-891973/
DTSTART;TZID=Europe/Berlin:20260808T150000
DTEND;TZID=Europe/Berlin:20260808T170000
DESCRIPTION:Interpreten: Philharmonisches Orchester Szczecin\, Przemyslaw Neumann (Leitung) \nProgramm: Karłowicz: Serenade for Strings & Eternal Songs\, Sibelius: Sinfonie Nr. 2 D-Dur \nhttps://www.concerti.de/termine/philharmonisches-orchester-szczecin-przemyslaw-neumann-leitung-kloster-chorin-891973/
LOCATION:Kloster Chorin\, Amt Chorin 11a\, 16230 Chorin
END:VEVENT
END:VCALENDAR