BEGIN:VCALENDAR
VERSION:2.0
PRODID:concerti//https://www.concerti.de
CALSCALE:GREGORIAN
BEGIN:VTIMEZONE
TZID:Europe/Berlin
X-LIC-LOCATION:Europe/Berlin
BEGIN:DAYLIGHT
TZOFFSETFROM:+0100
TZOFFSETTO:+0200
TZNAME:CEST
DTSTART:19700329T020000
RRULE:FREQ=YEARLY;BYMONTH=3;BYDAY=-1SU
END:DAYLIGHT
BEGIN:STANDARD
TZOFFSETFROM:+0200
TZOFFSETTO:+0100
TZNAME:CET
DTSTART:19701025T030000
RRULE:FREQ=YEARLY;BYMONTH=10;BYDAY=-1SU
END:STANDARD
END:VTIMEZONE
BEGIN:VEVENT
UID:44376145aa7ff4a78fe8b26c36c603fc
SUMMARY:Berliner Barock Solisten, Reinhard Goebel (Leitung) - Choriner Musiksommer
URL:https://www.concerti.de/termine/berliner-barock-solisten-reinhard-goebel-leitung-kloster-chorin-891979/
DTSTART;TZID=Europe/Berlin:20260816T150000
DTEND;TZID=Europe/Berlin:20260816T170000
DESCRIPTION:Interpreten: Berliner Barock Solisten\, Reinhard Goebel (Leitung) \nProgramm: J. S. Bach: Sinfonia zur Jagdkantate\, Telemann: Ouvertürensuite „La Chasse“ D-Dur\, Vivaldi: La Caccia B-Dur\, Fasch: La Caccia \nhttps://www.concerti.de/termine/berliner-barock-solisten-reinhard-goebel-leitung-kloster-chorin-891979/
LOCATION:Kloster Chorin\, Amt Chorin 11a\, 16230 Chorin
END:VEVENT
END:VCALENDAR