BEGIN:VCALENDAR
VERSION:2.0
PRODID:concerti//https://www.concerti.de
CALSCALE:GREGORIAN
BEGIN:VTIMEZONE
TZID:Europe/Berlin
X-LIC-LOCATION:Europe/Berlin
BEGIN:DAYLIGHT
TZOFFSETFROM:+0100
TZOFFSETTO:+0200
TZNAME:CEST
DTSTART:19700329T020000
RRULE:FREQ=YEARLY;BYMONTH=3;BYDAY=-1SU
END:DAYLIGHT
BEGIN:STANDARD
TZOFFSETFROM:+0200
TZOFFSETTO:+0100
TZNAME:CET
DTSTART:19701025T030000
RRULE:FREQ=YEARLY;BYMONTH=10;BYDAY=-1SU
END:STANDARD
END:VTIMEZONE
BEGIN:VEVENT
UID:1f693f79987b347ea8d77f2a65239946
SUMMARY:RIAS Kammerchor, Justin Doyle (Leitung) - Choriner Musiksommer
URL:https://www.concerti.de/termine/rias-kammerchor-justin-doyle-leitung-kloster-chorin-891982/
DTSTART;TZID=Europe/Berlin:20260822T150000
DTEND;TZID=Europe/Berlin:20260822T170000
DESCRIPTION:Interpreten: RIAS Kammerchor\, Justin Doyle (Leitung) \nProgramm: MacMillan: Miserere\, Scarlatti: Stabat mater\, Forte: Miserere mei\, Martin: Doppelchor-Messe \nhttps://www.concerti.de/termine/rias-kammerchor-justin-doyle-leitung-kloster-chorin-891982/
LOCATION:Kloster Chorin\, Amt Chorin 11a\, 16230 Chorin
END:VEVENT
END:VCALENDAR