BEGIN:VCALENDAR
VERSION:2.0
PRODID:concerti//https://www.concerti.de
CALSCALE:GREGORIAN
BEGIN:VTIMEZONE
TZID:Europe/Berlin
X-LIC-LOCATION:Europe/Berlin
BEGIN:DAYLIGHT
TZOFFSETFROM:+0100
TZOFFSETTO:+0200
TZNAME:CEST
DTSTART:19700329T020000
RRULE:FREQ=YEARLY;BYMONTH=3;BYDAY=-1SU
END:DAYLIGHT
BEGIN:STANDARD
TZOFFSETFROM:+0200
TZOFFSETTO:+0100
TZNAME:CET
DTSTART:19701025T030000
RRULE:FREQ=YEARLY;BYMONTH=10;BYDAY=-1SU
END:STANDARD
END:VTIMEZONE
BEGIN:VEVENT
UID:e1ee3548f4f2024f89107a4f577a492b
SUMMARY:Living Legacies
URL:https://www.concerti.de/termine/living-legacies-staatsoper-wien-892050/
DTSTART;TZID=Europe/Berlin:20260928T193000
DTEND;TZID=Europe/Berlin:20260928T213000
DESCRIPTION:Interpreten: David Coleman (Leitung)\, George Balanchine (Choreografie)\, Christopher Wheeldon (Choreografie)\, Frederick Ashton (Choreografie)\, \nProgramm: Musik von Mozart\, Bosso\, Vivaldi & Rachmaninow \nhttps://www.concerti.de/termine/living-legacies-staatsoper-wien-892050/
LOCATION:Wiener Staatsoper\, Opernring 2\, 1010 Wien
END:VEVENT
END:VCALENDAR