BEGIN:VCALENDAR
VERSION:2.0
PRODID:concerti//https://www.concerti.de
CALSCALE:GREGORIAN
BEGIN:VTIMEZONE
TZID:Europe/Berlin
X-LIC-LOCATION:Europe/Berlin
BEGIN:DAYLIGHT
TZOFFSETFROM:+0100
TZOFFSETTO:+0200
TZNAME:CEST
DTSTART:19700329T020000
RRULE:FREQ=YEARLY;BYMONTH=3;BYDAY=-1SU
END:DAYLIGHT
BEGIN:STANDARD
TZOFFSETFROM:+0200
TZOFFSETTO:+0100
TZNAME:CET
DTSTART:19701025T030000
RRULE:FREQ=YEARLY;BYMONTH=10;BYDAY=-1SU
END:STANDARD
END:VTIMEZONE
BEGIN:VEVENT
UID:f41ff85b681642db13a07f1b7a9a2496
SUMMARY:Puccini: Tosca
URL:https://www.concerti.de/termine/puccini-tosca-staatsoper-wien-463699/
DTSTART;TZID=Europe/Berlin:20261005T190000
DTEND;TZID=Europe/Berlin:20261005T210000
DESCRIPTION:Interpreten: Malin Byström (Floria Tosca)\, Jonathan Tetelman (Mario Cavaradossi)\, Ambrogio Maestri (Baron Scarpia)\, Giampaolo Bisanti (Leitung)\, Margarethe Wallmann (Regie)\, Aleksandra Kurzak (Floria Tosca)\, Roberto Alagna (Mario Cavaradossi)\, Amartuvshin Enkhbat (Baron Scarpia)\, Francesco Ivan Ciampa (Leitung)\, Margarethe Wallmann (Regie) \nhttps://www.concerti.de/termine/puccini-tosca-staatsoper-wien-463699/
LOCATION:Wiener Staatsoper\, Opernring 2\, 1010 Wien
END:VEVENT
END:VCALENDAR