BEGIN:VCALENDAR
VERSION:2.0
PRODID:concerti//https://www.concerti.de
CALSCALE:GREGORIAN
BEGIN:VTIMEZONE
TZID:Europe/Berlin
X-LIC-LOCATION:Europe/Berlin
BEGIN:DAYLIGHT
TZOFFSETFROM:+0100
TZOFFSETTO:+0200
TZNAME:CEST
DTSTART:19700329T020000
RRULE:FREQ=YEARLY;BYMONTH=3;BYDAY=-1SU
END:DAYLIGHT
BEGIN:STANDARD
TZOFFSETFROM:+0200
TZOFFSETTO:+0100
TZNAME:CET
DTSTART:19701025T030000
RRULE:FREQ=YEARLY;BYMONTH=10;BYDAY=-1SU
END:STANDARD
END:VTIMEZONE
BEGIN:VEVENT
UID:70e017cf00d085ea40ba7d84ca99080b
SUMMARY:Mozart/Resch: Geheimmission Zauberflöte - Kinderoper
URL:https://www.concerti.de/termine/mozart-resch-geheimmission-zauberfloete-staatsoper-wien-892114/
DTSTART;TZID=Europe/Berlin:20261031T110000
DTEND;TZID=Europe/Berlin:20261031T130000
DESCRIPTION:Interpreten: Nina Blum (Regie) \nhttps://www.concerti.de/termine/mozart-resch-geheimmission-zauberfloete-staatsoper-wien-892114/
LOCATION:Wiener Staatsoper\, Opernring 2\, 1010 Wien
END:VEVENT
END:VCALENDAR