BEGIN:VCALENDAR
VERSION:2.0
PRODID:concerti//https://www.concerti.de
CALSCALE:GREGORIAN
BEGIN:VTIMEZONE
TZID:Europe/Berlin
X-LIC-LOCATION:Europe/Berlin
BEGIN:DAYLIGHT
TZOFFSETFROM:+0100
TZOFFSETTO:+0200
TZNAME:CEST
DTSTART:19700329T020000
RRULE:FREQ=YEARLY;BYMONTH=3;BYDAY=-1SU
END:DAYLIGHT
BEGIN:STANDARD
TZOFFSETFROM:+0200
TZOFFSETTO:+0100
TZNAME:CET
DTSTART:19701025T030000
RRULE:FREQ=YEARLY;BYMONTH=10;BYDAY=-1SU
END:STANDARD
END:VTIMEZONE
BEGIN:VEVENT
UID:29c88dfa932c33ca3bb49f11850abf8a
SUMMARY:Monteverdi: L&#8217;Orfeo
URL:https://www.concerti.de/termine/monteverdi-lorfeo-staatsoper-wien-892168/
DTSTART;TZID=Europe/Berlin:20261031T190000
DTEND;TZID=Europe/Berlin:20261031T210000
DESCRIPTION:Interpreten: Nadezhda Karyazina (Die Musik\, Die Hoffnung & Echo)\, Rolando Villazón (Orfeo)\, Florina Ilie (Euridice)\, Margaret Plummer (Proserpina)\, Matheus França (Plutone)\, Wolfgang Bankl (Caronte)\, Hiroshi Amako (Apollo)\, Stefan Gottfried (Leitung)\, Tom Morris (Regie) \nhttps://www.concerti.de/termine/monteverdi-lorfeo-staatsoper-wien-892168/
LOCATION:Wiener Staatsoper\, Opernring 2\, 1010 Wien
END:VEVENT
END:VCALENDAR