BEGIN:VCALENDAR
VERSION:2.0
PRODID:concerti//https://www.concerti.de
CALSCALE:GREGORIAN
BEGIN:VTIMEZONE
TZID:Europe/Berlin
X-LIC-LOCATION:Europe/Berlin
BEGIN:DAYLIGHT
TZOFFSETFROM:+0100
TZOFFSETTO:+0200
TZNAME:CEST
DTSTART:19700329T020000
RRULE:FREQ=YEARLY;BYMONTH=3;BYDAY=-1SU
END:DAYLIGHT
BEGIN:STANDARD
TZOFFSETFROM:+0200
TZOFFSETTO:+0100
TZNAME:CET
DTSTART:19701025T030000
RRULE:FREQ=YEARLY;BYMONTH=10;BYDAY=-1SU
END:STANDARD
END:VTIMEZONE
BEGIN:VEVENT
UID:e091bf5c3f506848b00f4ddd53810d4e
SUMMARY:Verdi: Otello
URL:https://www.concerti.de/termine/verdi-otello-staatsoper-wien-892173/
DTSTART:20261105
DURATION:P1D
DESCRIPTION:Interpreten: Jonas Kaufmann (Otello)\, Luca Salsi (Jago)\, Botond Ódor (Cassio)\, Carlos Osuna (Roderigo)\, Leonardo Neiva (Montano)\, Nicole Car (Desdemona)\, Daria Sushkova (Emilia)\, Bertrand de Billy (Leitung)\, Adrian Noble (Regie) \nhttps://www.concerti.de/termine/verdi-otello-staatsoper-wien-892173/
LOCATION:Wiener Staatsoper\, Opernring 2\, 1010 Wien
END:VEVENT
END:VCALENDAR