BEGIN:VCALENDAR
VERSION:2.0
PRODID:concerti//https://www.concerti.de
CALSCALE:GREGORIAN
BEGIN:VTIMEZONE
TZID:Europe/Berlin
X-LIC-LOCATION:Europe/Berlin
BEGIN:DAYLIGHT
TZOFFSETFROM:+0100
TZOFFSETTO:+0200
TZNAME:CEST
DTSTART:19700329T020000
RRULE:FREQ=YEARLY;BYMONTH=3;BYDAY=-1SU
END:DAYLIGHT
BEGIN:STANDARD
TZOFFSETFROM:+0200
TZOFFSETTO:+0100
TZNAME:CET
DTSTART:19701025T030000
RRULE:FREQ=YEARLY;BYMONTH=10;BYDAY=-1SU
END:STANDARD
END:VTIMEZONE
BEGIN:VEVENT
UID:a1742f01ee08486704a746d2a8dadeb8
SUMMARY:Schwanensee
URL:https://www.concerti.de/termine/schwanensee-staatsoper-wien-892290/
DTSTART:20270105
DURATION:P1D
DESCRIPTION:Interpreten: Paul Connelly (Leitung)\, Rudolf Nurejew (Choreografie) \nProgramm: Musik von Tschaikowsky \nhttps://www.concerti.de/termine/schwanensee-staatsoper-wien-892290/
LOCATION:Wiener Staatsoper\, Opernring 2\, 1010 Wien
END:VEVENT
END:VCALENDAR