BEGIN:VCALENDAR
VERSION:2.0
PRODID:concerti//https://www.concerti.de
CALSCALE:GREGORIAN
BEGIN:VTIMEZONE
TZID:Europe/Berlin
X-LIC-LOCATION:Europe/Berlin
BEGIN:DAYLIGHT
TZOFFSETFROM:+0100
TZOFFSETTO:+0200
TZNAME:CEST
DTSTART:19700329T020000
RRULE:FREQ=YEARLY;BYMONTH=3;BYDAY=-1SU
END:DAYLIGHT
BEGIN:STANDARD
TZOFFSETFROM:+0200
TZOFFSETTO:+0100
TZNAME:CET
DTSTART:19701025T030000
RRULE:FREQ=YEARLY;BYMONTH=10;BYDAY=-1SU
END:STANDARD
END:VTIMEZONE
BEGIN:VEVENT
UID:c0676598c8f0f4ed5fe1b6419661fe12
SUMMARY:Beethoven: Fidelio
URL:https://www.concerti.de/termine/beethoven-fidelio-staatsoper-wien-463787/
DTSTART:20270118
DURATION:P1D
DESCRIPTION:Interpreten: Clemens Unterreiner (Don Fernando)\, Tomasz Konieczny (Don Pizarro)\, David Butt Philip (Florestan)\, Jennifer Holloway (Leonore)\, Tareq Nazmi (Rocco)\, Florina Ilie (Marzelline)\, Daniel Jenz (Jaquino)\, Cornelius Meister (Leitung)\, Nikolaus Habjan (Regie) \nhttps://www.concerti.de/termine/beethoven-fidelio-staatsoper-wien-463787/
LOCATION:Wiener Staatsoper\, Opernring 2\, 1010 Wien
END:VEVENT
END:VCALENDAR