BEGIN:VCALENDAR
VERSION:2.0
PRODID:concerti//https://www.concerti.de
CALSCALE:GREGORIAN
BEGIN:VTIMEZONE
TZID:Europe/Berlin
X-LIC-LOCATION:Europe/Berlin
BEGIN:DAYLIGHT
TZOFFSETFROM:+0100
TZOFFSETTO:+0200
TZNAME:CEST
DTSTART:19700329T020000
RRULE:FREQ=YEARLY;BYMONTH=3;BYDAY=-1SU
END:DAYLIGHT
BEGIN:STANDARD
TZOFFSETFROM:+0200
TZOFFSETTO:+0100
TZNAME:CET
DTSTART:19701025T030000
RRULE:FREQ=YEARLY;BYMONTH=10;BYDAY=-1SU
END:STANDARD
END:VTIMEZONE
BEGIN:VEVENT
UID:c98776bb9436c2eea635f245a8c30c17
SUMMARY:Puccini: Turandot
URL:https://www.concerti.de/termine/puccini-turandot-staatsoper-wien-892369/
DTSTART:20270223
DURATION:P1D
DESCRIPTION:Interpreten: Anna Netrebko (Turandot)\, Brian Jagde (Calaf)\, Rosa Feola (Liù)\, Henrik Nánási (Leitung)\, Claus Guth (Regie) \nhttps://www.concerti.de/termine/puccini-turandot-staatsoper-wien-892369/
LOCATION:Wiener Staatsoper\, Opernring 2\, 1010 Wien
END:VEVENT
END:VCALENDAR