BEGIN:VCALENDAR
VERSION:2.0
PRODID:concerti//https://www.concerti.de
CALSCALE:GREGORIAN
BEGIN:VTIMEZONE
TZID:Europe/Berlin
X-LIC-LOCATION:Europe/Berlin
BEGIN:DAYLIGHT
TZOFFSETFROM:+0100
TZOFFSETTO:+0200
TZNAME:CEST
DTSTART:19700329T020000
RRULE:FREQ=YEARLY;BYMONTH=3;BYDAY=-1SU
END:DAYLIGHT
BEGIN:STANDARD
TZOFFSETFROM:+0200
TZOFFSETTO:+0100
TZNAME:CET
DTSTART:19701025T030000
RRULE:FREQ=YEARLY;BYMONTH=10;BYDAY=-1SU
END:STANDARD
END:VTIMEZONE
BEGIN:VEVENT
UID:06da4fb808b8dd59dcc33e99bdecf84a
SUMMARY:Korngold: Die tote Stadt
URL:https://www.concerti.de/termine/korngold-die-tote-stadt-staatsoper-wien-892488/
DTSTART:20270501
DURATION:P1D
DESCRIPTION:Interpreten: Klaus Florian Vogt (Paul)\, Vida Mikneviciute (Marietta)\, Andrè Schuen (Frank & Pierrot)\, Sebastian Weigle (Leitung)\, Willy Decker (Regie) \nhttps://www.concerti.de/termine/korngold-die-tote-stadt-staatsoper-wien-892488/
LOCATION:Wiener Staatsoper\, Opernring 2\, 1010 Wien
END:VEVENT
END:VCALENDAR