BEGIN:VCALENDAR
VERSION:2.0
PRODID:concerti//https://www.concerti.de
CALSCALE:GREGORIAN
BEGIN:VTIMEZONE
TZID:Europe/Berlin
X-LIC-LOCATION:Europe/Berlin
BEGIN:DAYLIGHT
TZOFFSETFROM:+0100
TZOFFSETTO:+0200
TZNAME:CEST
DTSTART:19700329T020000
RRULE:FREQ=YEARLY;BYMONTH=3;BYDAY=-1SU
END:DAYLIGHT
BEGIN:STANDARD
TZOFFSETFROM:+0200
TZOFFSETTO:+0100
TZNAME:CET
DTSTART:19701025T030000
RRULE:FREQ=YEARLY;BYMONTH=10;BYDAY=-1SU
END:STANDARD
END:VTIMEZONE
BEGIN:VEVENT
UID:6d04e66dce15105f5f51a71fe322a8e4
SUMMARY:Lucas Stratmann (Violine), Benjamin Beck (Viola), Stefan Gartmayer (Violoncello), Jasminka Stancul (Klavier) - Kammermusik
URL:https://www.concerti.de/termine/lucas-stratmann-violine-benjamin-beck-viola-stefan-gartmayer-violoncello-jasminka-stancul-klavier-staatsoper-wien-892506/
DTSTART:20270508
DURATION:P1D
DESCRIPTION:Interpreten: Lucas Stratmann (Violine)\, Benjamin Beck (Viola)\, Stefan Gartmayer (Violoncello)\, Jasminka Stancul (Klavier) \nhttps://www.concerti.de/termine/lucas-stratmann-violine-benjamin-beck-viola-stefan-gartmayer-violoncello-jasminka-stancul-klavier-staatsoper-wien-892506/
LOCATION:Wiener Staatsoper\, Opernring 2\, 1010 Wien
END:VEVENT
END:VCALENDAR