BEGIN:VCALENDAR
VERSION:2.0
PRODID:concerti//https://www.concerti.de
CALSCALE:GREGORIAN
BEGIN:VTIMEZONE
TZID:Europe/Berlin
X-LIC-LOCATION:Europe/Berlin
BEGIN:DAYLIGHT
TZOFFSETFROM:+0100
TZOFFSETTO:+0200
TZNAME:CEST
DTSTART:19700329T020000
RRULE:FREQ=YEARLY;BYMONTH=3;BYDAY=-1SU
END:DAYLIGHT
BEGIN:STANDARD
TZOFFSETFROM:+0200
TZOFFSETTO:+0100
TZNAME:CET
DTSTART:19701025T030000
RRULE:FREQ=YEARLY;BYMONTH=10;BYDAY=-1SU
END:STANDARD
END:VTIMEZONE
BEGIN:VEVENT
UID:d41c37c1bd3635b8c560f7bcc5d6d42c
SUMMARY:Wagner: Die Meistersinger von Nürnberg
URL:https://www.concerti.de/termine/wagner-die-meistersinger-von-nuernberg-staatsoper-wien-892501/
DTSTART:20270512
DURATION:P1D
DESCRIPTION:Interpreten: Michael Volle (Hans Sachs)\, Christof Fischesser (Veit Pogner)\, Michael Nagy (Sixtus Beckmesser)\, Eric Cutler (Walther von Stolzing)\, Daniel Jenz (David)\, Hanna-Elisabeth Müller (Eva)\, Axel Kober (Leitung)\, Keith Warner (Regie) \nhttps://www.concerti.de/termine/wagner-die-meistersinger-von-nuernberg-staatsoper-wien-892501/
LOCATION:Wiener Staatsoper\, Opernring 2\, 1010 Wien
END:VEVENT
END:VCALENDAR