BEGIN:VCALENDAR
VERSION:2.0
PRODID:concerti//https://www.concerti.de
CALSCALE:GREGORIAN
BEGIN:VTIMEZONE
TZID:Europe/Berlin
X-LIC-LOCATION:Europe/Berlin
BEGIN:DAYLIGHT
TZOFFSETFROM:+0100
TZOFFSETTO:+0200
TZNAME:CEST
DTSTART:19700329T020000
RRULE:FREQ=YEARLY;BYMONTH=3;BYDAY=-1SU
END:DAYLIGHT
BEGIN:STANDARD
TZOFFSETFROM:+0200
TZOFFSETTO:+0100
TZNAME:CET
DTSTART:19701025T030000
RRULE:FREQ=YEARLY;BYMONTH=10;BYDAY=-1SU
END:STANDARD
END:VTIMEZONE
BEGIN:VEVENT
UID:8264d6e1a56b31c8da3204d354e0a72b
SUMMARY:Juan Diego Flórez (Tenor) - Grosse Stimmen
URL:https://www.concerti.de/termine/juan-diego-florez-tenor-staatsoper-wien-892530/
DTSTART:20270525
DURATION:P1D
DESCRIPTION:Interpreten: Juan Diego Flórez (Tenor) \nhttps://www.concerti.de/termine/juan-diego-florez-tenor-staatsoper-wien-892530/
LOCATION:Wiener Staatsoper\, Opernring 2\, 1010 Wien
END:VEVENT
END:VCALENDAR