BEGIN:VCALENDAR
VERSION:2.0
PRODID:concerti//https://www.concerti.de
CALSCALE:GREGORIAN
BEGIN:VTIMEZONE
TZID:Europe/Berlin
X-LIC-LOCATION:Europe/Berlin
BEGIN:DAYLIGHT
TZOFFSETFROM:+0100
TZOFFSETTO:+0200
TZNAME:CEST
DTSTART:19700329T020000
RRULE:FREQ=YEARLY;BYMONTH=3;BYDAY=-1SU
END:DAYLIGHT
BEGIN:STANDARD
TZOFFSETFROM:+0200
TZOFFSETTO:+0100
TZNAME:CET
DTSTART:19701025T030000
RRULE:FREQ=YEARLY;BYMONTH=10;BYDAY=-1SU
END:STANDARD
END:VTIMEZONE
BEGIN:VEVENT
UID:6098221209ea4e30ac73dc65f5e32b23
SUMMARY:Niklas Liepe (Violine), Württembergisches Kammerorchester Heilbronn, Joseph Bastian (Leitung)
URL:https://www.concerti.de/termine/niklas-liepe-violine-wuerttembergisches-kammerorchester-heilbronn-joseph-bastian-leitung-stadttheater-amberg-892774/
DTSTART;TZID=Europe/Berlin:20260610T193000
DTEND;TZID=Europe/Berlin:20260610T213000
DESCRIPTION:Interpreten: Niklas Liepe (Violine)\, Württembergisches Kammerorchester Heilbronn\, Joseph Bastian (Leitung) \nProgramm: Clyne: Stride\, Mendelssohn: Violinkonzert e-Moll op. 64\, Beethoven: Sinfonie Nr. 7 A-Dur op. 92 \nhttps://www.concerti.de/termine/niklas-liepe-violine-wuerttembergisches-kammerorchester-heilbronn-joseph-bastian-leitung-stadttheater-amberg-892774/
LOCATION:Stadttheater Amberg\, Schrannenplatz 8\, 92224 Amberg
END:VEVENT
END:VCALENDAR