BEGIN:VCALENDAR
VERSION:2.0
PRODID:concerti//https://www.concerti.de
CALSCALE:GREGORIAN
BEGIN:VTIMEZONE
TZID:Europe/Berlin
X-LIC-LOCATION:Europe/Berlin
BEGIN:DAYLIGHT
TZOFFSETFROM:+0100
TZOFFSETTO:+0200
TZNAME:CEST
DTSTART:19700329T020000
RRULE:FREQ=YEARLY;BYMONTH=3;BYDAY=-1SU
END:DAYLIGHT
BEGIN:STANDARD
TZOFFSETFROM:+0200
TZOFFSETTO:+0100
TZNAME:CET
DTSTART:19701025T030000
RRULE:FREQ=YEARLY;BYMONTH=10;BYDAY=-1SU
END:STANDARD
END:VTIMEZONE
BEGIN:VEVENT
UID:8732211914ec83a1985cf3060af98f15
SUMMARY:Ivo Ruf (Klarinette), Ulrike Hofmann (Violoncello), Robert Neumann (Klavier)
URL:https://www.concerti.de/termine/ivo-ruf-klarinette-ulrike-hofmann-violoncello-robert-neumann-klavier-stadttheater-amberg-892777/
DTSTART;TZID=Europe/Berlin:20260626T200000
DTEND;TZID=Europe/Berlin:20260626T220000
DESCRIPTION:Interpreten: Ivo Ruf (Klarinette)\, Ulrike Hofmann (Violoncello)\, Robert Neumann (Klavier) \nProgramm: Neumann: Zwei Träume (UA)\, Beethoven: Klaviertrio B-Dur op. 11\, Zemlinsky: Klarinettentrio d-Moll op. 3 \nhttps://www.concerti.de/termine/ivo-ruf-klarinette-ulrike-hofmann-violoncello-robert-neumann-klavier-stadttheater-amberg-892777/
LOCATION:Stadttheater Amberg\, Schrannenplatz 8\, 92224 Amberg
END:VEVENT
END:VCALENDAR