BEGIN:VCALENDAR
VERSION:2.0
PRODID:concerti//https://www.concerti.de
CALSCALE:GREGORIAN
BEGIN:VTIMEZONE
TZID:Europe/Berlin
X-LIC-LOCATION:Europe/Berlin
BEGIN:DAYLIGHT
TZOFFSETFROM:+0100
TZOFFSETTO:+0200
TZNAME:CEST
DTSTART:19700329T020000
RRULE:FREQ=YEARLY;BYMONTH=3;BYDAY=-1SU
END:DAYLIGHT
BEGIN:STANDARD
TZOFFSETFROM:+0200
TZOFFSETTO:+0100
TZNAME:CET
DTSTART:19701025T030000
RRULE:FREQ=YEARLY;BYMONTH=10;BYDAY=-1SU
END:STANDARD
END:VTIMEZONE
BEGIN:VEVENT
UID:e33e75ffe0bed130543a878e56a62d92
SUMMARY:Weihnachtskonzert
URL:https://www.concerti.de/termine/weihnachtskonzert-haus-der-musik-innsbruck-892986/
DTSTART;TZID=Europe/Berlin:20261217T193000
DTEND;TZID=Europe/Berlin:20261217T213000
DESCRIPTION:Interpreten: Tiroler Symphonieorchester Innsbruck\, Elisa Citterio (Violine & Leitung) \nProgramm: Leclair: Ouvertüre zu „Scylla et Glaucus“\, Vivaldi: Concerto D-Dur RV 208 „Il Grosso Mogul“\, Locatelli: Concerto a cinque f-Moll op. 1/8 „Weihnachtskonzert“\, Händel: Concerto grosso B-Dur op. 3/2 HWV 313\, Corelli: Concerto grosso g-Moll op. 6/8 „Fatto per la notte di natale“\, J. S. Bach: Orchestersuite Nr. 3 D-Dur BWV 1068 \nhttps://www.concerti.de/termine/weihnachtskonzert-haus-der-musik-innsbruck-892986/
LOCATION:Haus der Musik Innsbruck\, Universitätsstraße 1\, 6020 Innsbruck
END:VEVENT
END:VCALENDAR