BEGIN:VCALENDAR
VERSION:2.0
PRODID:concerti//https://www.concerti.de
CALSCALE:GREGORIAN
BEGIN:VTIMEZONE
TZID:Europe/Berlin
X-LIC-LOCATION:Europe/Berlin
BEGIN:DAYLIGHT
TZOFFSETFROM:+0100
TZOFFSETTO:+0200
TZNAME:CEST
DTSTART:19700329T020000
RRULE:FREQ=YEARLY;BYMONTH=3;BYDAY=-1SU
END:DAYLIGHT
BEGIN:STANDARD
TZOFFSETFROM:+0200
TZOFFSETTO:+0100
TZNAME:CET
DTSTART:19701025T030000
RRULE:FREQ=YEARLY;BYMONTH=10;BYDAY=-1SU
END:STANDARD
END:VTIMEZONE
BEGIN:VEVENT
UID:acc9dbd85121081ebc5920fa7b7e0d53
SUMMARY:Humperdinck: Hänsel und Gretel
URL:https://www.concerti.de/termine/humperdinck-haensel-und-gretel-tiroler-landestheater-892921/
DTSTART;TZID=Europe/Berlin:20270110T150000
DTEND;TZID=Europe/Berlin:20270110T170000
DESCRIPTION:Interpreten: Lorenz C. Aichner (Leitung)\, Nada Zimmermann (Regie) \nhttps://www.concerti.de/termine/humperdinck-haensel-und-gretel-tiroler-landestheater-892921/
LOCATION:Tiroler Landestheater\, Rennweg 2\, 6020 Innsbruck
END:VEVENT
END:VCALENDAR