BEGIN:VCALENDAR
VERSION:2.0
PRODID:concerti//https://www.concerti.de
CALSCALE:GREGORIAN
BEGIN:VTIMEZONE
TZID:Europe/Berlin
X-LIC-LOCATION:Europe/Berlin
BEGIN:DAYLIGHT
TZOFFSETFROM:+0100
TZOFFSETTO:+0200
TZNAME:CEST
DTSTART:19700329T020000
RRULE:FREQ=YEARLY;BYMONTH=3;BYDAY=-1SU
END:DAYLIGHT
BEGIN:STANDARD
TZOFFSETFROM:+0200
TZOFFSETTO:+0100
TZNAME:CET
DTSTART:19701025T030000
RRULE:FREQ=YEARLY;BYMONTH=10;BYDAY=-1SU
END:STANDARD
END:VTIMEZONE
BEGIN:VEVENT
UID:f8dc9c789acf4abd156c3bc6073eaf5b
SUMMARY:Florian Birsak (Klavier &amp; Tasteninstrumente), Rupert Huber (Rezitation) - Wort & Musik
URL:https://www.concerti.de/termine/florian-birsak-klavier-tasteninstrumente-rupert-huber-rezitation-haus-der-musik-innsbruck-893157/
DTSTART;TZID=Europe/Berlin:20270113T193000
DTEND;TZID=Europe/Berlin:20270113T213000
DESCRIPTION:Interpreten: Florian Birsak (Klavier & Tasteninstrumente)\, Rupert Huber (Rezitation) \nProgramm: Mozart: Sonate C-Dur KV 545 „Sonata facile“\, Cage: Sonatas and Interludes (Auswahl)\, Clementi: Sonatine C-Dur op. 36/1\, Satie: Sonatine bureaucratique\, Schwitters: Ursonate \nhttps://www.concerti.de/termine/florian-birsak-klavier-tasteninstrumente-rupert-huber-rezitation-haus-der-musik-innsbruck-893157/
LOCATION:Haus der Musik Innsbruck\, Universitätsstraße 1\, 6020 Innsbruck
END:VEVENT
END:VCALENDAR