BEGIN:VCALENDAR
VERSION:2.0
PRODID:concerti//https://www.concerti.de
CALSCALE:GREGORIAN
BEGIN:VTIMEZONE
TZID:Europe/Berlin
X-LIC-LOCATION:Europe/Berlin
BEGIN:DAYLIGHT
TZOFFSETFROM:+0100
TZOFFSETTO:+0200
TZNAME:CEST
DTSTART:19700329T020000
RRULE:FREQ=YEARLY;BYMONTH=3;BYDAY=-1SU
END:DAYLIGHT
BEGIN:STANDARD
TZOFFSETFROM:+0200
TZOFFSETTO:+0100
TZNAME:CET
DTSTART:19701025T030000
RRULE:FREQ=YEARLY;BYMONTH=10;BYDAY=-1SU
END:STANDARD
END:VTIMEZONE
BEGIN:VEVENT
UID:a991175cf92786a0b02a38476c730d7a
SUMMARY:Vadim Gluzman (Violine), Tiroler Symphonieorchester Innsbruck, Daniel Cohen (Leitung)
URL:https://www.concerti.de/termine/vadim-gluzman-violine-tiroler-symphonieorchester-innsbruck-daniel-cohen-leitung-893160/
DTSTART;TZID=Europe/Berlin:20270115T193000
DTEND;TZID=Europe/Berlin:20270115T213000
DESCRIPTION:Interpreten: Vadim Gluzman (Violine)\, Tiroler Symphonieorchester Innsbruck\, Daniel Cohen (Leitung) \nProgramm: Beethoven: Violinkonzert D-Dur op. 61\, Schumann: Sinfonie Nr. 1 B-Dur op. 38 „Frühlingssinfonie“ \nhttps://www.concerti.de/termine/vadim-gluzman-violine-tiroler-symphonieorchester-innsbruck-daniel-cohen-leitung-893160/
LOCATION:Congress\, Innsbruck
END:VEVENT
END:VCALENDAR