BEGIN:VCALENDAR
VERSION:2.0
PRODID:concerti//https://www.concerti.de
CALSCALE:GREGORIAN
BEGIN:VTIMEZONE
TZID:Europe/Berlin
X-LIC-LOCATION:Europe/Berlin
BEGIN:DAYLIGHT
TZOFFSETFROM:+0100
TZOFFSETTO:+0200
TZNAME:CEST
DTSTART:19700329T020000
RRULE:FREQ=YEARLY;BYMONTH=3;BYDAY=-1SU
END:DAYLIGHT
BEGIN:STANDARD
TZOFFSETFROM:+0200
TZOFFSETTO:+0100
TZNAME:CET
DTSTART:19701025T030000
RRULE:FREQ=YEARLY;BYMONTH=10;BYDAY=-1SU
END:STANDARD
END:VTIMEZONE
BEGIN:VEVENT
UID:5fa8d7b41f4534b15ad0b74e3db9ac3c
SUMMARY:Daniel Dodds (Violine), Sylvia Zucker (Viola), Talents der Festival Strings Lucerne
URL:https://www.concerti.de/termine/daniel-dodds-violine-sylvia-zucker-viola-talents-der-festival-strings-lucerne-893190/
DTSTART;TZID=Europe/Berlin:20260503T170000
DTEND;TZID=Europe/Berlin:20260503T190000
DESCRIPTION:Interpreten: Daniel Dodds (Violine)\, Sylvia Zucker (Viola)\, Talents der Festival Strings Lucerne \nProgramm: Beethoven: Streichtrio c-Moll op. 9/3\, Janáček: Streichquartett Nr. 1 „Kreuzer Sonate“ (Auszüge)\, Tschaikowsky: Souvenir de Florence op. 70\, Schostakowitsch: Streichquartett Nr. 3 F-Dur op. 74 (Auszüge)\, Mendelssohn: Oktett Es-Dur op. 20 (Auszüge) \nhttps://www.concerti.de/termine/daniel-dodds-violine-sylvia-zucker-viola-talents-der-festival-strings-lucerne-893190/
LOCATION:Schloss Heidegg\, Gelfingen
END:VEVENT
END:VCALENDAR