BEGIN:VCALENDAR
VERSION:2.0
PRODID:concerti//https://www.concerti.de
CALSCALE:GREGORIAN
BEGIN:VTIMEZONE
TZID:Europe/Berlin
X-LIC-LOCATION:Europe/Berlin
BEGIN:DAYLIGHT
TZOFFSETFROM:+0100
TZOFFSETTO:+0200
TZNAME:CEST
DTSTART:19700329T020000
RRULE:FREQ=YEARLY;BYMONTH=3;BYDAY=-1SU
END:DAYLIGHT
BEGIN:STANDARD
TZOFFSETFROM:+0200
TZOFFSETTO:+0100
TZNAME:CET
DTSTART:19701025T030000
RRULE:FREQ=YEARLY;BYMONTH=10;BYDAY=-1SU
END:STANDARD
END:VTIMEZONE
BEGIN:VEVENT
UID:63ca8745b94f71d94c5fa7d27f77a6b9
SUMMARY:Eintauchen, Abtauchen - Piccolokonzert
URL:https://www.concerti.de/termine/eintauchen-abtauchen-theater-heidelberg-893292/
DTSTART;TZID=Europe/Berlin:20260607T110000
DTEND;TZID=Europe/Berlin:20260607T130000
DESCRIPTION:Interpreten: Arrius Wagner (Schlagzeug)\, \nAnnabelle Ruth (Leitung)\, Franziska Kühnle (Schauspiel) \nhttps://www.concerti.de/termine/eintauchen-abtauchen-theater-heidelberg-893292/
LOCATION:Theater Heidelberg\, Theaterstr. 10\, 69117 Heidelberg
END:VEVENT
END:VCALENDAR