BEGIN:VCALENDAR
VERSION:2.0
PRODID:concerti//https://www.concerti.de
CALSCALE:GREGORIAN
BEGIN:VTIMEZONE
TZID:Europe/Berlin
X-LIC-LOCATION:Europe/Berlin
BEGIN:DAYLIGHT
TZOFFSETFROM:+0100
TZOFFSETTO:+0200
TZNAME:CEST
DTSTART:19700329T020000
RRULE:FREQ=YEARLY;BYMONTH=3;BYDAY=-1SU
END:DAYLIGHT
BEGIN:STANDARD
TZOFFSETFROM:+0200
TZOFFSETTO:+0100
TZNAME:CET
DTSTART:19701025T030000
RRULE:FREQ=YEARLY;BYMONTH=10;BYDAY=-1SU
END:STANDARD
END:VTIMEZONE
BEGIN:VEVENT
UID:b28eb082f700cf02a7f7e4d68f675f96
SUMMARY:Julian Prégardien (Tenor), Bryan Benner (Bariton &amp; Gitarre), Gabriel Rollinson (Bariton), Daniel Arkadij Gerzenberg (Klavier), Alumni der Heidelberger Frühling Liedakademie - Heidelberger Frühling Liedfestival
URL:https://www.concerti.de/termine/julian-pregardien-tenor-bryan-benner-bariton-gitarre-gabriel-rollinson-bariton-daniel-arkadij-gerzenberg-klavier-alumni-der-heidelberger-fruehling-liedakademie-kongresshaus-stadthalle-he-893324/
DTSTART;TZID=Europe/Berlin:20260614T163000
DTEND;TZID=Europe/Berlin:20260614T183000
DESCRIPTION:Interpreten: Julian Prégardien (Tenor)\, Bryan Benner (Bariton & Gitarre)\, Gabriel Rollinson (Bariton)\, Daniel Arkadij Gerzenberg (Klavier)\, Alumni der Heidelberger Frühling Liedakademie \nProgramm: Werke von Schubert \nhttps://www.concerti.de/termine/julian-pregardien-tenor-bryan-benner-bariton-gitarre-gabriel-rollinson-bariton-daniel-arkadij-gerzenberg-klavier-alumni-der-heidelberger-fruehling-liedakademie-kongresshaus-stadthalle-he-893324/
LOCATION:Konzerthaus Stadthalle Heidelberg\, Neckarstaden 24\, 69117 Heidelberg
END:VEVENT
END:VCALENDAR