BEGIN:VCALENDAR
VERSION:2.0
PRODID:concerti//https://www.concerti.de
CALSCALE:GREGORIAN
BEGIN:VTIMEZONE
TZID:Europe/Berlin
X-LIC-LOCATION:Europe/Berlin
BEGIN:DAYLIGHT
TZOFFSETFROM:+0100
TZOFFSETTO:+0200
TZNAME:CEST
DTSTART:19700329T020000
RRULE:FREQ=YEARLY;BYMONTH=3;BYDAY=-1SU
END:DAYLIGHT
BEGIN:STANDARD
TZOFFSETFROM:+0200
TZOFFSETTO:+0100
TZNAME:CET
DTSTART:19701025T030000
RRULE:FREQ=YEARLY;BYMONTH=10;BYDAY=-1SU
END:STANDARD
END:VTIMEZONE
BEGIN:VEVENT
UID:01c99b047fc237e8984ad7500a89b970
SUMMARY:Ginkgo Trio - Heidelberger Frühling Liedfestival
URL:https://www.concerti.de/termine/ginkgo-trio-alte-aula-der-universitaet-heidelberg-893348/
DTSTART;TZID=Europe/Berlin:20260617T170000
DTEND;TZID=Europe/Berlin:20260617T190000
DESCRIPTION:Interpreten: Ginkgo Trio \nProgramm: Brahms: Vergebliches Ständchen\, Pergolesi: Se tu m\'ami\, Gluck: O del mio dolce ardor\, Schubert: Liebhaber in allen Gestalten\, Falla: Asturiana\, Jota\, Nana & Polo\, Mendelssohn Bartholdy/Roth: Auf Flügeln des Gesanges u. a. \nhttps://www.concerti.de/termine/ginkgo-trio-alte-aula-der-universitaet-heidelberg-893348/
LOCATION:Alte Aula Heidelberg\, Grabengasse 1\, 69117 Heidelberg
END:VEVENT
END:VCALENDAR