BEGIN:VCALENDAR
VERSION:2.0
PRODID:concerti//https://www.concerti.de
CALSCALE:GREGORIAN
BEGIN:VTIMEZONE
TZID:Europe/Berlin
X-LIC-LOCATION:Europe/Berlin
BEGIN:DAYLIGHT
TZOFFSETFROM:+0100
TZOFFSETTO:+0200
TZNAME:CEST
DTSTART:19700329T020000
RRULE:FREQ=YEARLY;BYMONTH=3;BYDAY=-1SU
END:DAYLIGHT
BEGIN:STANDARD
TZOFFSETFROM:+0200
TZOFFSETTO:+0100
TZNAME:CET
DTSTART:19701025T030000
RRULE:FREQ=YEARLY;BYMONTH=10;BYDAY=-1SU
END:STANDARD
END:VTIMEZONE
BEGIN:VEVENT
UID:83796b02c81bbffc21d66372da8e0938
SUMMARY:Beethoven: Sinfonie Nr. 9 d-Moll op. 125
URL:https://www.concerti.de/termine/beethoven-sinfonie-nr-9-d-moll-op-125-kongresshaus-stadthalle-heidelberg-893356/
DTSTART;TZID=Europe/Berlin:20260617T200000
DTEND;TZID=Europe/Berlin:20260617T220000
DESCRIPTION:Interpreten: Victoria Leshkevich (Sopran)\, Zlata Khershberg-Reith (Alt)\, Jaesung Kim (Tenor)\, James Young (Bass)\, Bachchor Heidelberg\, Opernchor des Theaters und Orchesters Heidelberg\, Philharmonisches Orchester Heidelberg\, Mino Marani (Leitung) \nhttps://www.concerti.de/termine/beethoven-sinfonie-nr-9-d-moll-op-125-kongresshaus-stadthalle-heidelberg-893356/
LOCATION:Konzerthaus Stadthalle Heidelberg\, Neckarstaden 24\, 69117 Heidelberg
END:VEVENT
END:VCALENDAR