BEGIN:VCALENDAR
VERSION:2.0
PRODID:concerti//https://www.concerti.de
CALSCALE:GREGORIAN
BEGIN:VTIMEZONE
TZID:Europe/Berlin
X-LIC-LOCATION:Europe/Berlin
BEGIN:DAYLIGHT
TZOFFSETFROM:+0100
TZOFFSETTO:+0200
TZNAME:CEST
DTSTART:19700329T020000
RRULE:FREQ=YEARLY;BYMONTH=3;BYDAY=-1SU
END:DAYLIGHT
BEGIN:STANDARD
TZOFFSETFROM:+0200
TZOFFSETTO:+0100
TZNAME:CET
DTSTART:19701025T030000
RRULE:FREQ=YEARLY;BYMONTH=10;BYDAY=-1SU
END:STANDARD
END:VTIMEZONE
BEGIN:VEVENT
UID:7b194a4bf9b73e890b32c9f58f214e25
SUMMARY:Laetitia Grimaldi (Sopran), Ammiel Bushakevitz (Klavier) - Heidelberger Frühling Liedfestival
URL:https://www.concerti.de/termine/laetitia-grimaldi-sopran-ammiel-bushakevitz-klavier-alte-aula-der-universitaet-heidelberg-893367/
DTSTART;TZID=Europe/Berlin:20260619T170000
DTEND;TZID=Europe/Berlin:20260619T190000
DESCRIPTION:Interpreten: Laetitia Grimaldi (Sopran)\, Ammiel Bushakevitz (Klavier) \nProgramm: Werke von Fauré\, Bonis\, Holmès\, Viardot\, Chaminade und Faye-Jozin \nhttps://www.concerti.de/termine/laetitia-grimaldi-sopran-ammiel-bushakevitz-klavier-alte-aula-der-universitaet-heidelberg-893367/
LOCATION:Alte Aula Heidelberg\, Grabengasse 1\, 69117 Heidelberg
END:VEVENT
END:VCALENDAR