BEGIN:VCALENDAR
VERSION:2.0
PRODID:concerti//https://www.concerti.de
CALSCALE:GREGORIAN
BEGIN:VTIMEZONE
TZID:Europe/Berlin
X-LIC-LOCATION:Europe/Berlin
BEGIN:DAYLIGHT
TZOFFSETFROM:+0100
TZOFFSETTO:+0200
TZNAME:CEST
DTSTART:19700329T020000
RRULE:FREQ=YEARLY;BYMONTH=3;BYDAY=-1SU
END:DAYLIGHT
BEGIN:STANDARD
TZOFFSETFROM:+0200
TZOFFSETTO:+0100
TZNAME:CET
DTSTART:19701025T030000
RRULE:FREQ=YEARLY;BYMONTH=10;BYDAY=-1SU
END:STANDARD
END:VTIMEZONE
BEGIN:VEVENT
UID:7dcbe5a282ee09c6b338270404de703c
SUMMARY:Anna El-Khashem (Sopran), Keval Shah (Klavier) - Heidelberger Frühling Liedfestival
URL:https://www.concerti.de/termine/anna-el-khashem-sopran-keval-shah-klavier-alte-aula-der-universitaet-heidelberg-893370/
DTSTART;TZID=Europe/Berlin:20260619T193000
DTEND;TZID=Europe/Berlin:20260619T213000
DESCRIPTION:Interpreten: Anna El-Khashem (Sopran)\, Keval Shah (Klavier) \nProgramm: Schubert: Frühlingslied\, Nähe des Geliebten & Im Frühling\, C. Schumann: Die stille Lotusblume op.13/6\, Rimski-Korsakow: Im Frühling op. 43/1 & Nicht der Wind von der Höhe wehend op. 43/2\, Tschaikowsky: Serenade & Das war im ersten Lenzesstrahl\, Werke von Rachmaninow\, Schumann & R. Strauss \nhttps://www.concerti.de/termine/anna-el-khashem-sopran-keval-shah-klavier-alte-aula-der-universitaet-heidelberg-893370/
LOCATION:Alte Aula Heidelberg\, Grabengasse 1\, 69117 Heidelberg
END:VEVENT
END:VCALENDAR