BEGIN:VCALENDAR
VERSION:2.0
PRODID:concerti//https://www.concerti.de
CALSCALE:GREGORIAN
BEGIN:VTIMEZONE
TZID:Europe/Berlin
X-LIC-LOCATION:Europe/Berlin
BEGIN:DAYLIGHT
TZOFFSETFROM:+0100
TZOFFSETTO:+0200
TZNAME:CEST
DTSTART:19700329T020000
RRULE:FREQ=YEARLY;BYMONTH=3;BYDAY=-1SU
END:DAYLIGHT
BEGIN:STANDARD
TZOFFSETFROM:+0200
TZOFFSETTO:+0100
TZNAME:CET
DTSTART:19701025T030000
RRULE:FREQ=YEARLY;BYMONTH=10;BYDAY=-1SU
END:STANDARD
END:VTIMEZONE
BEGIN:VEVENT
UID:073849cfd980ed2ebbb1602a617e3447
SUMMARY:Thomas Hampson (Bariton), Susan Manoff (Klavier), Elitsa Desseva (Klavier), Stipendiatinnen &amp; Stipendiaten der Heidelberger Frühling Liedakademie - Heidelberger Frühling Liedfestival
URL:https://www.concerti.de/termine/thomas-hampson-bariton-susan-manoff-klavier-elitsa-desseva-klavier-stipendiatinnen-stipendiaten-der-heidelberger-fruehling-liedakademie-kongresshaus-stadthalle-heidelberg-893392/
DTSTART;TZID=Europe/Berlin:20260620T193000
DTEND;TZID=Europe/Berlin:20260620T213000
DESCRIPTION:Interpreten: Thomas Hampson (Bariton)\, Susan Manoff (Klavier)\, Elitsa Desseva (Klavier)\, Stipendiatinnen & Stipendiaten der Heidelberger Frühling Liedakademie \nhttps://www.concerti.de/termine/thomas-hampson-bariton-susan-manoff-klavier-elitsa-desseva-klavier-stipendiatinnen-stipendiaten-der-heidelberger-fruehling-liedakademie-kongresshaus-stadthalle-heidelberg-893392/
LOCATION:Konzerthaus Stadthalle Heidelberg\, Neckarstaden 24\, 69117 Heidelberg
END:VEVENT
END:VCALENDAR