BEGIN:VCALENDAR
VERSION:2.0
PRODID:concerti//https://www.concerti.de
CALSCALE:GREGORIAN
BEGIN:VTIMEZONE
TZID:Europe/Berlin
X-LIC-LOCATION:Europe/Berlin
BEGIN:DAYLIGHT
TZOFFSETFROM:+0100
TZOFFSETTO:+0200
TZNAME:CEST
DTSTART:19700329T020000
RRULE:FREQ=YEARLY;BYMONTH=3;BYDAY=-1SU
END:DAYLIGHT
BEGIN:STANDARD
TZOFFSETFROM:+0200
TZOFFSETTO:+0100
TZNAME:CET
DTSTART:19701025T030000
RRULE:FREQ=YEARLY;BYMONTH=10;BYDAY=-1SU
END:STANDARD
END:VTIMEZONE
BEGIN:VEVENT
UID:8a92e4b2dd2e78a74b4e06fed7139890
SUMMARY:Canzoni - Rheinvokal
URL:https://www.concerti.de/termine/canzoni-893396/
DTSTART;TZID=Europe/Berlin:20260620T190000
DTEND;TZID=Europe/Berlin:20260620T210000
DESCRIPTION:Interpreten: Etta Scollo Gesang & Gitarre) Susanne Paul (Gesang & Violoncello)\,\nDaniel Moheit (Akkordeon) \nhttps://www.concerti.de/termine/canzoni-893396/
LOCATION:Stadthalle\, Boppard
END:VEVENT
END:VCALENDAR