BEGIN:VCALENDAR
VERSION:2.0
PRODID:concerti//https://www.concerti.de
CALSCALE:GREGORIAN
BEGIN:VTIMEZONE
TZID:Europe/Berlin
X-LIC-LOCATION:Europe/Berlin
BEGIN:DAYLIGHT
TZOFFSETFROM:+0100
TZOFFSETTO:+0200
TZNAME:CEST
DTSTART:19700329T020000
RRULE:FREQ=YEARLY;BYMONTH=3;BYDAY=-1SU
END:DAYLIGHT
BEGIN:STANDARD
TZOFFSETFROM:+0200
TZOFFSETTO:+0100
TZNAME:CET
DTSTART:19701025T030000
RRULE:FREQ=YEARLY;BYMONTH=10;BYDAY=-1SU
END:STANDARD
END:VTIMEZONE
BEGIN:VEVENT
UID:c11ab6c87761149cf0bbbd209a020846
SUMMARY:Quadro Nuevo, Pfalzphilharmonie Kaiserslautern, Olivier Pols (Leitung)
URL:https://www.concerti.de/termine/quadro-nuevo-pfalzphilharmonie-kaiserslautern-olivier-pols-leitung-pfalztheater-kaiserslautern-893412/
DTSTART;TZID=Europe/Berlin:20260624T193000
DTEND;TZID=Europe/Berlin:20260624T213000
DESCRIPTION:Interpreten: Quadro Nuevo\, Pfalzphilharmonie Kaiserslautern\, Olivier Pols (Leitung) \nhttps://www.concerti.de/termine/quadro-nuevo-pfalzphilharmonie-kaiserslautern-olivier-pols-leitung-pfalztheater-kaiserslautern-893412/
LOCATION:Pfalztheater\, Willy-Brandt-Platz 4-5\, 67657 Kaiserslautern
END:VEVENT
END:VCALENDAR