BEGIN:VCALENDAR
VERSION:2.0
PRODID:concerti//https://www.concerti.de
CALSCALE:GREGORIAN
BEGIN:VTIMEZONE
TZID:Europe/Berlin
X-LIC-LOCATION:Europe/Berlin
BEGIN:DAYLIGHT
TZOFFSETFROM:+0100
TZOFFSETTO:+0200
TZNAME:CEST
DTSTART:19700329T020000
RRULE:FREQ=YEARLY;BYMONTH=3;BYDAY=-1SU
END:DAYLIGHT
BEGIN:STANDARD
TZOFFSETFROM:+0200
TZOFFSETTO:+0100
TZNAME:CET
DTSTART:19701025T030000
RRULE:FREQ=YEARLY;BYMONTH=10;BYDAY=-1SU
END:STANDARD
END:VTIMEZONE
BEGIN:VEVENT
UID:896ea0921208f8852ac81fe438b25f17
SUMMARY:Chanticleer - Rheinvokal
URL:https://www.concerti.de/termine/chanticleer-893424/
DTSTART;TZID=Europe/Berlin:20260627T190000
DTEND;TZID=Europe/Berlin:20260627T210000
DESCRIPTION:Interpreten: Chanticleer \nProgramm: Byrd: Vigilate\, Sing Joyfully\, Lienas: Lamentatio in Coena Domini\, Thomson: My Shepherd\, Thompson: Alleluja\, Connery: I Am a Cloud\, Mitchell: Both Sides Now\, Werke von Berlin\, Ronell u. a. \nhttps://www.concerti.de/termine/chanticleer-893424/
LOCATION:Christuskirche\, Andernach
END:VEVENT
END:VCALENDAR