BEGIN:VCALENDAR
VERSION:2.0
PRODID:concerti//https://www.concerti.de
CALSCALE:GREGORIAN
BEGIN:VTIMEZONE
TZID:Europe/Berlin
X-LIC-LOCATION:Europe/Berlin
BEGIN:DAYLIGHT
TZOFFSETFROM:+0100
TZOFFSETTO:+0200
TZNAME:CEST
DTSTART:19700329T020000
RRULE:FREQ=YEARLY;BYMONTH=3;BYDAY=-1SU
END:DAYLIGHT
BEGIN:STANDARD
TZOFFSETFROM:+0200
TZOFFSETTO:+0100
TZNAME:CET
DTSTART:19701025T030000
RRULE:FREQ=YEARLY;BYMONTH=10;BYDAY=-1SU
END:STANDARD
END:VTIMEZONE
BEGIN:VEVENT
UID:4e16c255700c1f9d3d0bada47196c5f2
SUMMARY:Stefan Andelkovic (Bariton), Josifoska Barockensemble - Rheinvokal
URL:https://www.concerti.de/termine/stefan-andelkovic-bariton-josifoska-barockensemble-893451/
DTSTART;TZID=Europe/Berlin:20260704T190000
DTEND;TZID=Europe/Berlin:20260704T210000
DESCRIPTION:Interpreten: Stefan Andelkovic (Bariton)\, Josifoska Barockensemble \nProgramm: Platti: Cellosonaten D-Dur & G-Dur\, Vivaldi: Violinsonaten A-Dur\, op. 2/2\, F-Dur op. 2/4\, J. S. Bach: Italienisches Konzert F-Dur BWV 971\, Händel: Giulio Cesare (Auszüge) u. a. \nhttps://www.concerti.de/termine/stefan-andelkovic-bariton-josifoska-barockensemble-893451/
LOCATION:Stiftskirche\, St. Goar
END:VEVENT
END:VCALENDAR