BEGIN:VCALENDAR
VERSION:2.0
PRODID:concerti//https://www.concerti.de
CALSCALE:GREGORIAN
BEGIN:VTIMEZONE
TZID:Europe/Berlin
X-LIC-LOCATION:Europe/Berlin
BEGIN:DAYLIGHT
TZOFFSETFROM:+0100
TZOFFSETTO:+0200
TZNAME:CEST
DTSTART:19700329T020000
RRULE:FREQ=YEARLY;BYMONTH=3;BYDAY=-1SU
END:DAYLIGHT
BEGIN:STANDARD
TZOFFSETFROM:+0200
TZOFFSETTO:+0100
TZNAME:CET
DTSTART:19701025T030000
RRULE:FREQ=YEARLY;BYMONTH=10;BYDAY=-1SU
END:STANDARD
END:VTIMEZONE
BEGIN:VEVENT
UID:a5edd57dab8189e008d71dc4b71ebf24
SUMMARY:Marie-Sophie Pollak (Sopran), Il Pomo D‘Oro, Max Volbers (Blockflöte, Cembalo &amp; Leitung) - Rheinvokal
URL:https://www.concerti.de/termine/marie-sophie-pollak-sopran-il-pomo-doro-max-volbers-blockfloete-cembalo-leitung-893482/
DTSTART;TZID=Europe/Berlin:20260718T200000
DTEND;TZID=Europe/Berlin:20260718T220000
DESCRIPTION:Interpreten: Marie-Sophie Pollak (Sopran)\, Il Pomo D‘Oro\, Max Volbers (Blockflöte\, Cembalo & Leitung) \nProgramm: Purcell: Masque of the Night aus „The Fairy Queen“\, Charpentier: La Nuit\, Eyck: Engels Nachtegaeltje & Wat zalmen op den Avond doen\, Caldara: Quell’usignolo aus „Sancta Ferma“\, Werke von Telemann\, Händel\, Merula\, Vivaldi\, Scarlatti u. a. \nhttps://www.concerti.de/termine/marie-sophie-pollak-sopran-il-pomo-doro-max-volbers-blockfloete-cembalo-leitung-893482/
LOCATION:Sayner Hütte\, Bendors-Sayn
END:VEVENT
END:VCALENDAR