BEGIN:VCALENDAR
VERSION:2.0
PRODID:concerti//https://www.concerti.de
CALSCALE:GREGORIAN
BEGIN:VTIMEZONE
TZID:Europe/Berlin
X-LIC-LOCATION:Europe/Berlin
BEGIN:DAYLIGHT
TZOFFSETFROM:+0100
TZOFFSETTO:+0200
TZNAME:CEST
DTSTART:19700329T020000
RRULE:FREQ=YEARLY;BYMONTH=3;BYDAY=-1SU
END:DAYLIGHT
BEGIN:STANDARD
TZOFFSETFROM:+0200
TZOFFSETTO:+0100
TZNAME:CET
DTSTART:19701025T030000
RRULE:FREQ=YEARLY;BYMONTH=10;BYDAY=-1SU
END:STANDARD
END:VTIMEZONE
BEGIN:VEVENT
UID:60697dd9dd48121b8846034421bf1f83
SUMMARY:SWR Kultur – Literatur &amp; Musik - Rheinvokal
URL:https://www.concerti.de/termine/swr-kultur-literatur-musik-893485/
DTSTART;TZID=Europe/Berlin:20260719T190000
DTEND;TZID=Europe/Berlin:20260719T210000
DESCRIPTION:Interpreten: Konstantin Reinfeld (Mundharmonika)\, Benyamin Nuss (Klavier)\, Steffen Groth (Rezitation)\, Isabelle Demey (Rezitation) \nhttps://www.concerti.de/termine/swr-kultur-literatur-musik-893485/
LOCATION:Schloss\, Montabaur
END:VEVENT
END:VCALENDAR