BEGIN:VCALENDAR
VERSION:2.0
PRODID:concerti//https://www.concerti.de
CALSCALE:GREGORIAN
BEGIN:VTIMEZONE
TZID:Europe/Berlin
X-LIC-LOCATION:Europe/Berlin
BEGIN:DAYLIGHT
TZOFFSETFROM:+0100
TZOFFSETTO:+0200
TZNAME:CEST
DTSTART:19700329T020000
RRULE:FREQ=YEARLY;BYMONTH=3;BYDAY=-1SU
END:DAYLIGHT
BEGIN:STANDARD
TZOFFSETFROM:+0200
TZOFFSETTO:+0100
TZNAME:CET
DTSTART:19701025T030000
RRULE:FREQ=YEARLY;BYMONTH=10;BYDAY=-1SU
END:STANDARD
END:VTIMEZONE
BEGIN:VEVENT
UID:f6faa398028b99f179669e70892ef0ab
SUMMARY:Nuria Rial (Sopran), Ensemble 1700, Dorothee Oberlinger (Blockflöte &amp; Leitung) - Rheinvokal
URL:https://www.concerti.de/termine/nuria-rial-sopran-ensemble-1700-dorothee-oberlinger-blockfloete-leitung-893508/
DTSTART;TZID=Europe/Berlin:20260802T180000
DTEND;TZID=Europe/Berlin:20260802T200000
DESCRIPTION:Interpreten: Nuria Rial (Sopran)\, Ensemble 1700\, Dorothee Oberlinger (Blockflöte & Leitung) \nProgramm: Soler: Fandango Merula: Folle è ben che si crede\, Strozzi: Che si può fare\, Monteverdi: Si dolce è il tormento\, Händel: Mi palpita il cor HWV 132b\, Caldara: Ciaconna\, op. 2/12\, Vivaldi: Sol da te\, mio dolce amore aus „Orlando furioso“ RV 728\, Werke von Falconieri\, Ortíz Marais u. a. \nhttps://www.concerti.de/termine/nuria-rial-sopran-ensemble-1700-dorothee-oberlinger-blockfloete-leitung-893508/
LOCATION:Hildegardzentrum auf dem Rupertsberg\, Bingen
END:VEVENT
END:VCALENDAR