BEGIN:VCALENDAR
VERSION:2.0
PRODID:concerti//https://www.concerti.de
CALSCALE:GREGORIAN
BEGIN:VTIMEZONE
TZID:Europe/Berlin
X-LIC-LOCATION:Europe/Berlin
BEGIN:DAYLIGHT
TZOFFSETFROM:+0100
TZOFFSETTO:+0200
TZNAME:CEST
DTSTART:19700329T020000
RRULE:FREQ=YEARLY;BYMONTH=3;BYDAY=-1SU
END:DAYLIGHT
BEGIN:STANDARD
TZOFFSETFROM:+0200
TZOFFSETTO:+0100
TZNAME:CET
DTSTART:19701025T030000
RRULE:FREQ=YEARLY;BYMONTH=10;BYDAY=-1SU
END:STANDARD
END:VTIMEZONE
BEGIN:VEVENT
UID:625f512ef13cbbdf171ea71380690958
SUMMARY:Tango Pasión - Rheinvokal
URL:https://www.concerti.de/termine/tango-pasion-893512/
DTSTART;TZID=Europe/Berlin:20260807T200000
DTEND;TZID=Europe/Berlin:20260807T220000
DESCRIPTION:Interpreten: Leonel Capitano (Gesang)\, Cuarteto Soltango \nhttps://www.concerti.de/termine/tango-pasion-893512/
LOCATION:kING Kultur- & Kongresshalle\, Ingelheim
END:VEVENT
END:VCALENDAR