BEGIN:VCALENDAR
VERSION:2.0
PRODID:concerti//https://www.concerti.de
CALSCALE:GREGORIAN
BEGIN:VTIMEZONE
TZID:Europe/Berlin
X-LIC-LOCATION:Europe/Berlin
BEGIN:DAYLIGHT
TZOFFSETFROM:+0100
TZOFFSETTO:+0200
TZNAME:CEST
DTSTART:19700329T020000
RRULE:FREQ=YEARLY;BYMONTH=3;BYDAY=-1SU
END:DAYLIGHT
BEGIN:STANDARD
TZOFFSETFROM:+0200
TZOFFSETTO:+0100
TZNAME:CET
DTSTART:19701025T030000
RRULE:FREQ=YEARLY;BYMONTH=10;BYDAY=-1SU
END:STANDARD
END:VTIMEZONE
BEGIN:VEVENT
UID:bcd5f38513b1ae21b4bbcaea9bd82412
SUMMARY:Christian Poltéra (Violoncello), Christian Redl (Rezitation) - Musik & Lesung im Krefeld Pavillon
URL:https://www.concerti.de/termine/christian-poltera-violoncello-christian-redl-rezitation-893538/
DTSTART;TZID=Europe/Berlin:20260607T190000
DTEND;TZID=Europe/Berlin:20260607T210000
DESCRIPTION:Interpreten: Christian Poltéra (Violoncello)\, Christian Redl (Rezitation) \nProgramm: Werke von J. S. Bach & Britten\, Lesung aus „Mara“ von Wolf Wondratschek \nhttps://www.concerti.de/termine/christian-poltera-violoncello-christian-redl-rezitation-893538/
LOCATION:Pavillon\, Krefeld
END:VEVENT
END:VCALENDAR