BEGIN:VCALENDAR
VERSION:2.0
PRODID:concerti//https://www.concerti.de
CALSCALE:GREGORIAN
BEGIN:VTIMEZONE
TZID:Europe/Berlin
X-LIC-LOCATION:Europe/Berlin
BEGIN:DAYLIGHT
TZOFFSETFROM:+0100
TZOFFSETTO:+0200
TZNAME:CEST
DTSTART:19700329T020000
RRULE:FREQ=YEARLY;BYMONTH=3;BYDAY=-1SU
END:DAYLIGHT
BEGIN:STANDARD
TZOFFSETFROM:+0200
TZOFFSETTO:+0100
TZNAME:CET
DTSTART:19701025T030000
RRULE:FREQ=YEARLY;BYMONTH=10;BYDAY=-1SU
END:STANDARD
END:VTIMEZONE
BEGIN:VEVENT
UID:edf4a3fe18858a66b712f057837c867c
SUMMARY:Inferno - Musik & Lesung im Krefeld Pavillon
URL:https://www.concerti.de/termine/inferno-893541/
DTSTART;TZID=Europe/Berlin:20260609T190000
DTEND;TZID=Europe/Berlin:20260609T210000
DESCRIPTION:Interpreten: Musica Sequenza \nProgramm: Werke von Cavalli\, Gesualdo\, India\, Frescobaldi & Monteverdi \nhttps://www.concerti.de/termine/inferno-893541/
LOCATION:Pavillon\, Krefeld
END:VEVENT
END:VCALENDAR